BEGIN:VCALENDAR
VERSION:2.0
PRODID:-//Global Business Travel Association - GBTA - ECPv6.9.0//NONSGML v1.0//EN
CALSCALE:GREGORIAN
METHOD:PUBLISH
X-WR-CALNAME:Global Business Travel Association - GBTA
X-ORIGINAL-URL:https://gbta.org/pt
X-WR-CALDESC:Eventos para Global Business Travel Association - GBTA
REFRESH-INTERVAL;VALUE=DURATION:PT1H
X-Robots-Tag:noindex
X-PUBLISHED-TTL:PT1H
BEGIN:VTIMEZONE
TZID:America/New_York
BEGIN:DAYLIGHT
TZOFFSETFROM:-0500
TZOFFSETTO:-0400
TZNAME:EDT
DTSTART:20230312T070000
END:DAYLIGHT
BEGIN:STANDARD
TZOFFSETFROM:-0400
TZOFFSETTO:-0500
TZNAME:EST
DTSTART:20231105T060000
END:STANDARD
END:VTIMEZONE
BEGIN:VEVENT
DTSTART;TZID=America/New_York:20231019T110000
DTEND;TZID=America/New_York:20231019T131500
DTSTAMP:20260421T204630
CREATED:20230725T155134Z
LAST-MODIFIED:20230725T160338Z
UID:11924-1697713200-1697721300@gbta.org
SUMMARY:GBTA | Georgia October 19 Monthly Meeting
DESCRIPTION:GBTA | Georgia October Monthly Meeting\nOctober 19 \nLocation of Event \nSandy Springs Performing Arts and Conference Ctr. Terrace Room\n1 Galambos Way\, Sandy Springs\, GA 30328 \nPricing and Registration \n$85.00 Member and GA All Access Ticket\n$45.00 Earlybird rate before October 12 \n$85.00 Guest Ticket\n$65.00 Earlybird rate before October 12 \nFor current speaker and program information\, please visit www.georgiabta.org
URL:https://gbta.org/pt/event/gbta-georgia-october-19-monthly-meeting/
CATEGORIES:US Chapter Event
END:VEVENT
END:VCALENDAR