BEGIN:VCALENDAR
VERSION:2.0
PRODID:-//Global Business Travel Association - GBTA - ECPv6.9.0//NONSGML v1.0//EN
CALSCALE:GREGORIAN
METHOD:PUBLISH
X-ORIGINAL-URL:https://gbta.org/pt
X-WR-CALDESC:Eventos para Global Business Travel Association - GBTA
REFRESH-INTERVAL;VALUE=DURATION:PT1H
X-Robots-Tag:noindex
X-PUBLISHED-TTL:PT1H
BEGIN:VTIMEZONE
TZID:America/New_York
BEGIN:DAYLIGHT
TZOFFSETFROM:-0500
TZOFFSETTO:-0400
TZNAME:EDT
DTSTART:20230312T070000
END:DAYLIGHT
BEGIN:STANDARD
TZOFFSETFROM:-0400
TZOFFSETTO:-0500
TZNAME:EST
DTSTART:20231105T060000
END:STANDARD
END:VTIMEZONE
BEGIN:VEVENT
DTSTART;VALUE=DATE:20231026
DTEND;VALUE=DATE:20231027
DTSTAMP:20260421T142608
CREATED:20230907T165155Z
LAST-MODIFIED:20230907T165155Z
UID:12687-1698278400-1698364799@gbta.org
SUMMARY:GBTA WINiT GALA 2023
DESCRIPTION:Thursday\, October 26\, 2023\nBrooklyn\, New York \nThe goal of the WINiT Awards is to recognize the women\, men\, and companies who together are driving positive change for the career mobility of women in the travel-related industries. Winners will be honored at the Gala. \nWINiT Gala award categories will include: \n\nMost Innovative Trailblazer\nOutstanding Woman of the Year\nRising Female Leader\nBest Mentor or Coach (Women)\nBest Mentor or Coach (Male)\nDEI Leadership Award\nThe Future of the Workforce Award\n\nReception: 6:30 PM EST\nDinner: 7:30 PM – 9 :30 PM EST \nLearn More >>
URL:https://gbta.org/pt/event/gbta-winit-gala-2023/
CATEGORIES:WINiT
END:VEVENT
BEGIN:VEVENT
DTSTART;VALUE=DATE:20231026
DTEND;VALUE=DATE:20231027
DTSTAMP:20260421T142608
CREATED:20230907T165316Z
LAST-MODIFIED:20230926T153852Z
UID:12691-1698278400-1698364799@gbta.org
SUMMARY:GBTA WINiT Summit 2023
DESCRIPTION:The WINiT Summit is a dedicated half-day event half-day event to bring together professionals of all levels for the sole purpose of positively changing the careers and lives of women in travel-related industries. \nRegistration & Buffet Lunch: 11:30 AM – 1:00 PM EST \nRegistration: $299.00 USD for all attendees. \nLearn more about sponsorships available> \nLearn More >>
URL:https://gbta.org/pt/event/gbta-winit-summit-2023/
CATEGORIES:WINiT
END:VEVENT
BEGIN:VEVENT
DTSTART;TZID=America/New_York:20231026T110000
DTEND;TZID=America/New_York:20231026T120000
DTSTAMP:20260421T142608
CREATED:20230626T151127Z
LAST-MODIFIED:20230627T071108Z
UID:11639-1698318000-1698321600@gbta.org
SUMMARY:South Florida Chapter - Hospitality Curriculum: Incorporating Proper Pieces for Business Travel Managers - GTP Credit Approved
DESCRIPTION:Be part of designing a new curriculum at FAU. The faculty of FAU’s hospitality program\, led by Dr. Peter Ricci\, will be facilitating an interactive session with GBTA South Florida Members & Guests to design the curriculum for a new Business Travel Management Track at FAU. Come be part of educating FAU Hospitality Students on the skills and expertise needed to pursue a career in business travel\, from the Allied and Direct Member points of view.
URL:https://gbta.org/pt/event/south-florida-chapter-hospitality-curriculum-incorporating-proper-pieces-for-business-travel-managers/
CATEGORIES:US Chapter Event
END:VEVENT
END:VCALENDAR