BEGIN:VCALENDAR
VERSION:2.0
PRODID:-//Global Business Travel Association - GBTA - ECPv6.9.0//NONSGML v1.0//EN
CALSCALE:GREGORIAN
METHOD:PUBLISH
X-ORIGINAL-URL:https://gbta.org/pt
X-WR-CALDESC:Eventos para Global Business Travel Association - GBTA
REFRESH-INTERVAL;VALUE=DURATION:PT1H
X-Robots-Tag:noindex
X-PUBLISHED-TTL:PT1H
BEGIN:VTIMEZONE
TZID:America/New_York
BEGIN:DAYLIGHT
TZOFFSETFROM:-0500
TZOFFSETTO:-0400
TZNAME:EDT
DTSTART:20240310T070000
END:DAYLIGHT
BEGIN:STANDARD
TZOFFSETFROM:-0400
TZOFFSETTO:-0500
TZNAME:EST
DTSTART:20241103T060000
END:STANDARD
END:VTIMEZONE
BEGIN:VEVENT
DTSTART;TZID=America/New_York:20240111T110000
DTEND;TZID=America/New_York:20240111T130000
DTSTAMP:20260421T215414
CREATED:20240102T105437Z
LAST-MODIFIED:20240104T111833Z
UID:13973-1704970800-1704978000@gbta.org
SUMMARY:Utah Business Travel Association Monthly Meeting - GTP Credit Approved
DESCRIPTION:35.00 non members\n11-1pm\nLocation: Crystal Inn Downtown SLC \nChad Hymas\nMotivational speaker \nChad inspires\, motivates\, and moves audiences\, creating an experience that touches hearts for a lifetime. He is one of the youngest ever to receive the Council of Peers Award for Excellence (CPAE) and to be inducted into the prestigious National Speaker Hall of Fame. \nIn 2001\, at the age of 27\, Chad’s life changed in an instant when a 2\,000-pound bale of hay shattered his neck\, leaving him a quadriplegic. But Chad’s dreams were not paralyzed that day—he became an example of what is possible. \nChad is a best selling author\, president of his own communications company\, and recognized world-class wheelchair athlete. In 2003\, Chad set the world record by wheeling his chair from Slat Lake City to Las Vegas (513 miles). \nChad’s speaking career in the areas of leadership\, team building\, customer service\, and mastering change had brought him multiple honors. He served as president of the National Speakers Utah Chapter and is a member of the elite Speakers Round-table (one of twenty of the world’s top speakers). \n \nLeaving a Legacy Topics \nWho Needs Legs When You Have Wings?\nMotivating presentations must be accompanied by solutions that change and inspire lives. Today more than ever\, people are looking not simply for entertainment\, but for direction and solid answers. Chad Hymas has spent the last seventeen years developing solutions that transformed his life. His stories are moving\, his courage unprecedented\, and his insights profound. His accomplishments provide a powerful litmus test to the validity of these dynamic principles! \n· Conquer the emotional paralysis that robs vision and momentum \n· Turn obstacles into incredible opportunities \n· Harness the power of change and rise above to progress \n· Tap into unseen personal power and inner strength to accomplish seemingly impossible dreams
URL:https://gbta.org/pt/event/utah-business-travel-association-monthly-meeting/
CATEGORIES:US Chapter Event
END:VEVENT
BEGIN:VEVENT
DTSTART;TZID=America/New_York:20240111T160000
DTEND;TZID=America/New_York:20240111T180000
DTSTAMP:20260421T215414
CREATED:20231213T025222Z
LAST-MODIFIED:20231213T025243Z
UID:13820-1704988800-1704996000@gbta.org
SUMMARY:All About Networking
DESCRIPTION:Join us for an evening of networking with tasty appetizers\, and refreshing beverages hosted by the beautiful The Aweswell Hotel! You’ll have the chance to experience the stunning design and style of our lounge while building meaningful relationships with like-minded individuals in the travel industry. Don’t miss out on this unique opportunity to expand your network and enjoy a fun-filled evening with the GBTA professionals. Reserve your spot today!
URL:https://gbta.org/pt/event/all-about-networking-3/
CATEGORIES:Online Courses & Webinars
END:VEVENT
END:VCALENDAR