BEGIN:VCALENDAR
VERSION:2.0
PRODID:-//Global Business Travel Association - GBTA - ECPv6.9.0//NONSGML v1.0//EN
CALSCALE:GREGORIAN
METHOD:PUBLISH
X-ORIGINAL-URL:https://gbta.org/pt
X-WR-CALDESC:Eventos para Global Business Travel Association - GBTA
REFRESH-INTERVAL;VALUE=DURATION:PT1H
X-Robots-Tag:noindex
X-PUBLISHED-TTL:PT1H
BEGIN:VTIMEZONE
TZID:America/New_York
BEGIN:DAYLIGHT
TZOFFSETFROM:-0500
TZOFFSETTO:-0400
TZNAME:EDT
DTSTART:20240310T070000
END:DAYLIGHT
BEGIN:STANDARD
TZOFFSETFROM:-0400
TZOFFSETTO:-0500
TZNAME:EST
DTSTART:20241103T060000
END:STANDARD
END:VTIMEZONE
BEGIN:VEVENT
DTSTART;VALUE=DATE:20240213
DTEND;VALUE=DATE:20240214
DTSTAMP:20260422T053137
CREATED:20240116T125526Z
LAST-MODIFIED:20240130T162836Z
UID:14101-1707782400-1707868799@gbta.org
SUMMARY:Building a Stronger Music City: Updates from Nashville Convention & Visitors Corp - GTP Credit Approved
DESCRIPTION:With more than 1\,200 members\, the Nashville Convention & Visitors Corp brands\, sells\, and markets Music City to a worldwide audience as a top travel.\nJoin us as Deana Ivey\, President and CEO\, of Nashville Convention Visitors Corporation shares how to build a stronger Music City and put your business in front of thousands of business and leisure travelers at the same time.\nDeana Ivey\, President and CEO\, Nashville Convention & VIsitors Corp \n \nPlatinum Sponsors Holiday Inn Nashville Vanderbilt & Delta Air Lines \nHoliday inn Nashville Vanderbilt\n2613 W End Ave.\nNashville\, TN 37203 \nTickets\n$35.00 GBTA-TN Member Registration\n$45.00 after 08:00 am February 12 \n$40.00 GBTA All-Access Registration\n$50.00 after 08:00 am February 12 \n$40.00 Guest Registration\n$50.00 after 08:00 am February 12
URL:https://gbta.org/pt/event/builidng-a-stronger-music-city-updates-from-nashville-convention-visitors-corp/
CATEGORIES:Online Courses & Webinars
END:VEVENT
BEGIN:VEVENT
DTSTART;TZID=America/New_York:20240213T113000
DTEND;TZID=America/New_York:20240213T140000
DTSTAMP:20260422T053137
CREATED:20240201T142540Z
LAST-MODIFIED:20240201T142540Z
UID:14313-1707823800-1707832800@gbta.org
SUMMARY:2024 Business Travel Forecast
DESCRIPTION:2024 Business Travel Forecast-Andrew Menkes\, Partnership Consulting \nMostly cloudy with a chance of mergers/acquisitions and disintermediation. Industry Veteran Andy Menkes will share his insights on how our recent history will drive future events. Many of those events are in play now in 2024 and will be more apparent over the next few months. Attendees will learn how to anticipate those changes and prepare solutions to maintain and improve their managed travel programs.
URL:https://gbta.org/pt/event/2024-business-travel-forecast/
CATEGORIES:North America,US Chapter Event
END:VEVENT
END:VCALENDAR