BEGIN:VCALENDAR
VERSION:2.0
PRODID:-//Global Business Travel Association - GBTA - ECPv6.9.0//NONSGML v1.0//EN
CALSCALE:GREGORIAN
METHOD:PUBLISH
X-WR-CALNAME:Global Business Travel Association - GBTA
X-ORIGINAL-URL:https://gbta.org/pt
X-WR-CALDESC:Eventos para Global Business Travel Association - GBTA
REFRESH-INTERVAL;VALUE=DURATION:PT1H
X-Robots-Tag:noindex
X-PUBLISHED-TTL:PT1H
BEGIN:VTIMEZONE
TZID:America/Los_Angeles
BEGIN:DAYLIGHT
TZOFFSETFROM:-0800
TZOFFSETTO:-0700
TZNAME:PDT
DTSTART:20240310T100000
END:DAYLIGHT
BEGIN:STANDARD
TZOFFSETFROM:-0700
TZOFFSETTO:-0800
TZNAME:PST
DTSTART:20241103T090000
END:STANDARD
END:VTIMEZONE
BEGIN:VEVENT
DTSTART;TZID=America/Los_Angeles:20240321T173000
DTEND;TZID=America/Los_Angeles:20240321T203000
DTSTAMP:20260421T234703
CREATED:20240229T084559Z
LAST-MODIFIED:20240312T075716Z
UID:14826-1711042200-1711053000@gbta.org
SUMMARY:Fostering a Safer Community: A Fireside Chat with San Francisco Police Chief Scott on Safety\, Travel\, and Visitor Well-being - GTP Credit Approved
DESCRIPTION:GBTA Bay Area \nJoin us for an enlightening evening with Police Chief Scott and GBTA Bay Area’s new president\, Heather Parodi. This pivotal event promises to delve into the heart of community safety\, travel precautions\, and creating a welcoming environment for visitors. Engage directly with Chief Scott as he shares insights from his extensive law enforcement experience\, discusses current safety challenges\, and outlines the proactive measures his department is undertaking. Whether you’re a local resident\, a frequent traveler\, or involved in the hospitality sector\, this conversation is aimed at empowering you with knowledge and strategies to enhance safety and security in our community. Don’t miss this opportunity to learn\, ask questions\, and contribute to making our community a safer place for everyone. \n \nSan Francisco Police Department\, Police Chief Scott \nThursday\, March 21\, 2024\n5:30 PM – 8:00 PM Dinner Meeting\nThe Clift Royal Sonesta San Francisco – 495 Geary Street\, San Francisco\, California 94102
URL:https://gbta.org/pt/event/fostering-a-safer-community-a-fireside-chat-with-san-francisco-police-chief-scott-on-safety-travel-and-visitor-well-being/
CATEGORIES:North America,US Chapter Event
END:VEVENT
END:VCALENDAR