BEGIN:VCALENDAR
VERSION:2.0
PRODID:-//Global Business Travel Association - GBTA - ECPv6.9.0//NONSGML v1.0//EN
CALSCALE:GREGORIAN
METHOD:PUBLISH
X-ORIGINAL-URL:https://gbta.org/pt
X-WR-CALDESC:Eventos para Global Business Travel Association - GBTA
REFRESH-INTERVAL;VALUE=DURATION:PT1H
X-Robots-Tag:noindex
X-PUBLISHED-TTL:PT1H
BEGIN:VTIMEZONE
TZID:America/New_York
BEGIN:DAYLIGHT
TZOFFSETFROM:-0500
TZOFFSETTO:-0400
TZNAME:EDT
DTSTART:20240310T070000
END:DAYLIGHT
BEGIN:STANDARD
TZOFFSETFROM:-0400
TZOFFSETTO:-0500
TZNAME:EST
DTSTART:20241103T060000
END:STANDARD
END:VTIMEZONE
BEGIN:VEVENT
DTSTART;TZID=America/New_York:20240416T130000
DTEND;TZID=America/New_York:20240416T140000
DTSTAMP:20260419T202309
CREATED:20240328T063016Z
LAST-MODIFIED:20240415T204327Z
UID:15251-1713272400-1713276000@gbta.org
SUMMARY:Virtual Buyer's Panel: Hot Takes on Hot Topics
DESCRIPTION:Virtual Buyer’s Panel: Hot Takes on Hot Topics \nGet ready to explore cutting-edge trends\, best practices\, and innovative solutions in the travel industry. We are thrilled to have three renowned travel industry buyers: \nRonda Dean\, US Travel Manager with F5\, Inc. and GBTA CPC Chapter President\nSara Satterlee\, Global Travel Manager with Slalom\nLee Palmer-Turner\, Amazon Subsidiary Engagement Manager – Travel with MGM Studios\nVirtual via ZOOM\n$10
URL:https://gbta.org/pt/event/virtual-buyers-panel-hot-takes-on-hot-topics/
CATEGORIES:North America,US Chapter Event
END:VEVENT
END:VCALENDAR