BEGIN:VCALENDAR
VERSION:2.0
PRODID:-//Global Business Travel Association - GBTA - ECPv6.9.0//NONSGML v1.0//EN
CALSCALE:GREGORIAN
METHOD:PUBLISH
X-ORIGINAL-URL:https://gbta.org/pt
X-WR-CALDESC:Eventos para Global Business Travel Association - GBTA
REFRESH-INTERVAL;VALUE=DURATION:PT1H
X-Robots-Tag:noindex
X-PUBLISHED-TTL:PT1H
BEGIN:VTIMEZONE
TZID:America/New_York
BEGIN:DAYLIGHT
TZOFFSETFROM:-0500
TZOFFSETTO:-0400
TZNAME:EDT
DTSTART:20240310T070000
END:DAYLIGHT
BEGIN:STANDARD
TZOFFSETFROM:-0400
TZOFFSETTO:-0500
TZNAME:EST
DTSTART:20241103T060000
END:STANDARD
END:VTIMEZONE
BEGIN:VEVENT
DTSTART;VALUE=DATE:20240514
DTEND;VALUE=DATE:20240516
DTSTAMP:20260421T173638
CREATED:20231027T134553Z
LAST-MODIFIED:20240417T150545Z
UID:13278-1715644800-1715817599@gbta.org
SUMMARY:GBTA APAC Conference 2024 – Singapore
DESCRIPTION:Join us in Singapore for the 2024 GBTA APAC Conference at the Raffles City Convention Centre on May 14-15 as we bring together the business travel community again to network\, learn from industry experts\, and benefit from peer-to-peer education. The two-day business travel conference\, has been curated by regional thought leaders as well as leveraging on the GBTA global insights. This event will focus on the key issues and opportunities the business travel industry today. \nWe’re thrilled to announce that the GBTA APAC Conference will be co-located with the Worldwide ERC® APAC Regional Summit Singapore for the 2nd year running.  Maximize your experience by exploring synergies between business travel and workforce mobility and benefit from the learning and networking opportunities from both Conferences. \nConnect with peers\, expand your network\, and be inspired by innovative content that will enhance your understanding of industry issues and accelerate your career.  Mark your calendar and register now for the biggest gathering of the global business travel industry in APAC! \n \n 
URL:https://gbta.org/pt/event/gbta-apac-conference-2024-singapore/
CATEGORIES:APAC
ATTACH;FMTTYPE=image/png:https://gbta.org/wp-content/uploads/apacbanner-1.png
END:VEVENT
BEGIN:VEVENT
DTSTART;TZID=America/New_York:20240515T110000
DTEND;TZID=America/New_York:20240515T130000
DTSTAMP:20260421T173638
CREATED:20240328T062755Z
LAST-MODIFIED:20240328T062755Z
UID:15248-1715770800-1715778000@gbta.org
SUMMARY:Latest Updates from the Seattle Airport Team!
DESCRIPTION:GBTA Puget Sound Chapter May Meeting \nSEA Airport Update\nDon’t miss out on one of our most attended meetings during the year at the SEA Airport. Hopefully\, by now some of you have experienced their International Arrivals Facility (IAF) at SEA\, but what’s next in the facilities pipeline? What are the latest initiatives to improve the passenger experience? What new restaurants and lounges are set to open soon? Please join us for an informative overview of the latest developments at Seattle-Tacoma International Airport. We are excited to once again be meeting and hearing from the leadership team at SEA. \nSEA will provide updates on the following topics\, with a Q&A session at the end of the program: \nAirport Recovery and Air Service Trends\nCustomer Experience\nCapital Projects\nAirport Dining and Retail (ADR) and Lounges\nLocation: Seattle-Tacoma International Airport\, International Conference Room \nDue to the size of the meeting room\, we have a maximum capacity threshold\, so please register early! \nWe look forward to seeing you there. \nParking: Complimentary with validation. The parking is extremely tight and limited\, we encourage attendees to carpool and use public transportation as much as possible. If you do plan on using the parking\, please plan on having to spend EXTRA time to locate available spots. \n$60 Members\n$75 Non-Members
URL:https://gbta.org/pt/event/latest-updates-from-the-seattle-airport-team/
CATEGORIES:North America,US Chapter Event
END:VEVENT
BEGIN:VEVENT
DTSTART;TZID=America/New_York:20240515T110000
DTEND;TZID=America/New_York:20240515T130000
DTSTAMP:20260421T173638
CREATED:20240513T180908Z
LAST-MODIFIED:20240513T180908Z
UID:15991-1715770800-1715778000@gbta.org
SUMMARY:SEA Airport Update
DESCRIPTION:GBTA Puget Sound Chapter \nDon’t miss out on one of our most attended meetings during the year at the SEA Airport. Hopefully\, by now some of you have experienced their International Arrivals Facility (IAF) at SEA\, but what’s next in the facilities pipeline? What are the latest initiatives to improve the passenger experience? What new restaurants and lounges are set to open soon? Please join us for an informative overview of the latest developments at Seattle-Tacoma International Airport. We are excited to once again be meeting and hearing from the leadership team at SEA. \nSEA will provide updates on the following topics\, with a Q&A session at the end of the program: \nAirport Recovery and Air Service Trends\nCustomer Experience\nCapital Projects\nAirport Dining and Retail (ADR) and Lounges\nLocation: Seattle-Tacoma International Airport\, International Conference Room \nDue to the size of the meeting room\, we have a maximum capacity threshold\, so please register early! \nWe look forward to seeing you there. \nParking: Complimentary with validation. The parking is extremely tight and limited\, we encourage attendees to carpool and use public transportation as much as possible. If you do plan on using the parking\, please plan on having to spend EXTRA time to locate available spots. \nVenue:\nSeattle Airport\n17801 International Blvd\nSeattle\, WA 98158 \nRegistration:\n$60.00 Members\n$85.00 after 11:00 pm May 10 \n$10.00 Bingo – 3 tickets for $10 \n$60.00 All Access GBTA Member Ticket\n$85.00 after 11:00 pm May 10 \n$75.00 Guest Ticket\n$100.00 after 11:00 pm May 1
URL:https://gbta.org/pt/event/sea-airport-update/
CATEGORIES:North America,US Chapter Event
END:VEVENT
END:VCALENDAR