BEGIN:VCALENDAR
VERSION:2.0
PRODID:-//Global Business Travel Association - GBTA - ECPv6.9.0//NONSGML v1.0//EN
CALSCALE:GREGORIAN
METHOD:PUBLISH
X-ORIGINAL-URL:https://gbta.org/pt
X-WR-CALDESC:Eventos para Global Business Travel Association - GBTA
REFRESH-INTERVAL;VALUE=DURATION:PT1H
X-Robots-Tag:noindex
X-PUBLISHED-TTL:PT1H
BEGIN:VTIMEZONE
TZID:America/New_York
BEGIN:DAYLIGHT
TZOFFSETFROM:-0500
TZOFFSETTO:-0400
TZNAME:EDT
DTSTART:20240310T070000
END:DAYLIGHT
BEGIN:STANDARD
TZOFFSETFROM:-0400
TZOFFSETTO:-0500
TZNAME:EST
DTSTART:20241103T060000
END:STANDARD
END:VTIMEZONE
BEGIN:VEVENT
DTSTART;VALUE=DATE:20241104
DTEND;VALUE=DATE:20241107
DTSTAMP:20260422T063107
CREATED:20230825T125304Z
LAST-MODIFIED:20241029T154717Z
UID:12316-1730678400-1730937599@gbta.org
SUMMARY:GBTA + VDR Conference 2024 in Partnership with the Nordic Business Travel Associations | Copenhagen
DESCRIPTION:Learn More Now \n\n\n\n  \nGBTA +VDR Conference 2024 in Partnership with the Nordic Business Travel Associations | Copenhagen is the place to be\, it is Europe’s largest conference for business travel and meetings management professionals. It’s the place where community\, learning and advocacy and more all come together for the European business travel industry. The place to build long-term connections\, benefit from peer-to-peer education\, and advocate for what matters most. To recognise and celebrate those who give back to keep our industry and association. It’s the place where our many voices from around the world join for the one purpose of shaping the future of the industry. \nAttend Conference and you’ll return to your organisation armed with new knowledge\, expertise and impactful best practices.  From serving the ongoing needs of business travel professionals to looking ahead to what’s needed most now by travel buyers\, suppliers\, business travellers and others. \n\nIn-person networking\, business\, and connection opportunities alongside thousands of peers and partners from across the global business travel community\nCurated topics\, insightful speakers\, and leading experts on what matters most for the times we’re in but also for our future\nAn unparalleled offering of sessions for education\, learning\, training and professional development for professionals of all levels and interests\nTools\, research and resources you need\, from the latest forecasts and data\, to best practices and technologies to help you navigate the road ahead for your business travelers\, organizations\, and teams\n\nThe most important European gathering of the global business travel industry\, be a part of the journey. \n 
URL:https://gbta.org/pt/event/gbta-vdr-conference-2024-in-partnership-with-the-nordic-business-travel-associations-copenhagen/
CATEGORIES:Conference/Convention,Europe,France
ATTACH;FMTTYPE=image/png:https://gbta.org/wp-content/uploads/europevenue-1.png
END:VEVENT
BEGIN:VEVENT
DTSTART;TZID=America/New_York:20241104T090000
DTEND;TZID=America/New_York:20241104T190000
DTSTAMP:20260422T063107
CREATED:20241023T154933Z
LAST-MODIFIED:20250212T061042Z
UID:18379-1730710800-1730746800@gbta.org
SUMMARY:GBTA Sustainability Summit
DESCRIPTION:Building a Sustainable Future for Business Travel: From Words to Action \nThe time is now to empower organisations of all sizes and in all geographies to accelerate the integration of travel practices that materially reduce emissions\, on a joint journey with the travel value chain to reach Net Zero by 2050. \nOn 4 November 2024\, GBTA will be hosting its Annual Sustainability Summit in Copenhagen\, Denmark. This year\, the focus will be on bold actions\, radical collaboration\, preparing for regulations\, the role of technology\, and the importance of harmonisation across the industry. \nThis one-day\, high-level event will bring together industry leaders\, practitioners\, experts and policy leaders to outline the latest trends in sustainable business travel and offer concrete decarbonisation solutions. The Summit will facilitate connections and dialogue\, offering a platform for open conversations about the challenges and opportunities in advancing climate action within the business travel sector.
URL:https://gbta.org/pt/event/gbta-sustainability-summit-2/
CATEGORIES:Europe,Summits & Workshops
END:VEVENT
END:VCALENDAR