BEGIN:VCALENDAR
VERSION:2.0
PRODID:-//Global Business Travel Association - GBTA - ECPv6.9.0//NONSGML v1.0//EN
CALSCALE:GREGORIAN
METHOD:PUBLISH
X-ORIGINAL-URL:https://gbta.org/pt
X-WR-CALDESC:Eventos para Global Business Travel Association - GBTA
REFRESH-INTERVAL;VALUE=DURATION:PT1H
X-Robots-Tag:noindex
X-PUBLISHED-TTL:PT1H
BEGIN:VTIMEZONE
TZID:America/New_York
BEGIN:DAYLIGHT
TZOFFSETFROM:-0500
TZOFFSETTO:-0400
TZNAME:EDT
DTSTART:20240310T070000
END:DAYLIGHT
BEGIN:STANDARD
TZOFFSETFROM:-0400
TZOFFSETTO:-0500
TZNAME:EST
DTSTART:20241103T060000
END:STANDARD
END:VTIMEZONE
BEGIN:VEVENT
DTSTART;TZID=America/New_York:20241211T120000
DTEND;TZID=America/New_York:20241211T133000
DTSTAMP:20260422T041701
CREATED:20241115T050114Z
LAST-MODIFIED:20241204T131057Z
UID:18921-1733918400-1733923800@gbta.org
SUMMARY:Five Essential Business Travel Trends: Highlights from GBTA Research - GTP Credit Approved
DESCRIPTION:This year\, business travel has roared back – exceeding pre-COVID levels for the first time. What’s more impressive than the recovery is the pace of change. GBTA Research has tracked industry trends and hot topics over the course of the year. Join us as we share the five “essential” business travel trends that industry professionals need to know as they gear up for 2025. \n \nBusiness travel roars back: How much money is spent on business travel worldwide? What’s the forecast for next year? Which markets are leading the recovery?\nChanging travel patterns: Travel patterns continue to evolve. Are employees taking longer trips? Are they taking fewer day trips? Are they engaging in more or less “premium” travel? Are they extending work trips for vacation?\nCurrent technologies: Which technologies do travel programs use? Which technologies do hotels use?\nEmerging technologies: How do industry professionals feel about Artificial Intelligence (AI) and its potential impact on the industry?\nDiversity and inclusion: What percentage of industry professionals are women and minorities? How well are women and minorities represented at the executive level?
URL:https://gbta.org/pt/event/five-essential-business-travel-trends-highlights-from-gbta-research/
CATEGORIES:North America,US Chapter Event
END:VEVENT
END:VCALENDAR