BEGIN:VCALENDAR
VERSION:2.0
PRODID:-//Global Business Travel Association - GBTA - ECPv6.9.0//NONSGML v1.0//EN
CALSCALE:GREGORIAN
METHOD:PUBLISH
X-WR-CALNAME:Global Business Travel Association - GBTA
X-ORIGINAL-URL:https://gbta.org/pt
X-WR-CALDESC:Eventos para Global Business Travel Association - GBTA
REFRESH-INTERVAL;VALUE=DURATION:PT1H
X-Robots-Tag:noindex
X-PUBLISHED-TTL:PT1H
BEGIN:VTIMEZONE
TZID:America/New_York
BEGIN:DAYLIGHT
TZOFFSETFROM:-0500
TZOFFSETTO:-0400
TZNAME:EDT
DTSTART:20250309T070000
END:DAYLIGHT
BEGIN:STANDARD
TZOFFSETFROM:-0400
TZOFFSETTO:-0500
TZNAME:EST
DTSTART:20251102T060000
END:STANDARD
END:VTIMEZONE
BEGIN:VEVENT
DTSTART;VALUE=DATE:20250114
DTEND;VALUE=DATE:20250116
DTSTAMP:20260421T170829
CREATED:20241218T191733Z
LAST-MODIFIED:20250107T102916Z
UID:19613-1736812800-1736985599@gbta.org
SUMMARY:Global Business Travel Association - Wisconsin Annual Event - GTP Credit Approved
DESCRIPTION:GBTA Wisconsin Annual Event January 14-15 at the Osthoff Resort \nCome and join us beginning at 1pm January 14th for open registration and to view our Vendor Marketplace event. We will also have complimentary headshots available for the entire event on the 14th and 15th. In addition to the education sessions\, we will have our silent auction and much more! See below for speaker and session details! \n \nTuesday\, January 14th \n1pm Registration Opens/Vendor Marketplace & Headshots \n2pm Conference kickoff \n2:10pm Speaker: Emily Wright-Organizational Coach “Burn Bright\, not out: Unveiling the Secrets to Sustained Success” \n3:45pm Direct and Allied Sessions\nDirect Speaker: Grant Caplan-President of Procurigence “DIY Audit your program like a pro and prove\nyour value”\nAllied: Coming Soon! \n5:30pm 26th Annual Silent Auction \n7:30pm Dinner and Networking (on your own) \nWednesday January 15th \n6:30am Yoga (optional) with grab and go breakfast \n7:15am Breakfast \n8:35am Speaker: Rosemary Maloney- Sr. Director\, Corporate Travel & Vice-President of the GBTA Board of Directors “GBTA Updates\, Current Travel Trends & Forecast\, GBTA 2024 Conference & Volunteer Opportunities” \n9:20am Speaker: Laura Smith-EVP Global Sales & Partnerships at Hertz “Winning in Business” \n10:30am Buyer & Supplier Roundtables \n11:40am Speaker: Grant Caplan-President of Procurigence “MICE (Meetings\, Incentives\, Conferences\, and exhibitions) and Business Travel Together” \n12:45pm Lunch & Business Meeting \n2pm Speaker: Megan Miller TEDx & Global Speaker\, Founder: The Intentional Living Method\, International Bestselling Author and the Host of Apple’s Top-Rated Podcast\, Attention to Intention. “The Intentional; Living Method” \n3pm Closing Remarks
URL:https://gbta.org/pt/event/global-business-travel-association-wisconsin-annual-event/
CATEGORIES:North America,US Chapter Event
END:VEVENT
BEGIN:VEVENT
DTSTART;TZID=America/New_York:20250115T160000
DTEND;TZID=America/New_York:20250115T180000
DTSTAMP:20260421T170829
CREATED:20250114T115727Z
LAST-MODIFIED:20250114T115727Z
UID:20059-1736956800-1736964000@gbta.org
SUMMARY:Accessibility and Inclusion in Travel
DESCRIPTION:GBTA Kansas City\nTime to kick off the New Year with a GBTA Kansas City learning and educational event. Join Kelly Kirby\, Meetings and Events Director at Loews Kansas City Hotel\, George Kalka\, VP of Fox World Travel\, and Melissa Cooper\, Director of Aviation for the Kansas City International Airport as they discuss Accessibility and Inclusion throughout Travel.
URL:https://gbta.org/pt/event/accessibility-and-inclusion-in-travel/
CATEGORIES:North America,US Chapter Event
END:VEVENT
END:VCALENDAR