BEGIN:VCALENDAR
VERSION:2.0
PRODID:-//Global Business Travel Association - GBTA - ECPv6.9.0//NONSGML v1.0//EN
CALSCALE:GREGORIAN
METHOD:PUBLISH
X-WR-CALNAME:Global Business Travel Association - GBTA
X-ORIGINAL-URL:https://gbta.org/pt
X-WR-CALDESC:Eventos para Global Business Travel Association - GBTA
REFRESH-INTERVAL;VALUE=DURATION:PT1H
X-Robots-Tag:noindex
X-PUBLISHED-TTL:PT1H
BEGIN:VTIMEZONE
TZID:America/New_York
BEGIN:DAYLIGHT
TZOFFSETFROM:-0500
TZOFFSETTO:-0400
TZNAME:EDT
DTSTART:20250309T070000
END:DAYLIGHT
BEGIN:STANDARD
TZOFFSETFROM:-0400
TZOFFSETTO:-0500
TZNAME:EST
DTSTART:20251102T060000
END:STANDARD
END:VTIMEZONE
BEGIN:VEVENT
DTSTART;TZID=America/New_York:20250326T140000
DTEND;TZID=America/New_York:20250326T150000
DTSTAMP:20260420T041924
CREATED:20250304T060633Z
LAST-MODIFIED:20250317T162727Z
UID:21458-1742997600-1743001200@gbta.org
SUMMARY:Shaping the Future of Europe via Business Travel 2025 and beyond
DESCRIPTION:Join Julia Sullivan\, Chair of the GBTA Europe Advisory Board\, Ben Park\, Direct Seat\, Regional Europe\, GBTA\, Shane Downey\, VP Government Relations\, GBTA and Moderated by Fulvio Origo\, Country Director\, Italy\, GBTA\, as they reflect on the hot topics discussed during their recent visit to Brussels to meet with key industry representatives\, policymakers\, and stakeholders. Advocating on behalf of the sector\, members of the GBTA board met with members of the European Parliament and European Commission to ensure the business travel industry can continue to thrive while advancing the EU’s ambitious sustainability goals. The panel will share some of their insights and key takeaways from the discussions.
URL:https://gbta.org/pt/event/shaping-the-future-of-europe-via-business-travel-2025-and-beyond/
CATEGORIES:Europe,Online Courses & Webinars
END:VEVENT
BEGIN:VEVENT
DTSTART;TZID=America/New_York:20250326T173000
DTEND;TZID=America/New_York:20250326T203000
DTSTAMP:20260420T041924
CREATED:20250312T184518Z
LAST-MODIFIED:20250312T184528Z
UID:21596-1743010200-1743021000@gbta.org
SUMMARY:Women Leading the Way: Mentorship\, Advocacy\, and Leadership in Business Travel
DESCRIPTION:Chapter Name: GBTA Las Vegas\nDescription:\nJoin us on March 26th for an inspiring evening with one of GBTA WINiT’s Top 50 Women in Travel\, Beth Marino! \nThis event is for everyone—women and allies alike—who are passionate about leadership\, mentorship\, and driving positive change in the business travel industry. Beth will share insights from her leadership journey\, explore the power of mentorship\, and discuss how you can get involved with GBTA WINiT to support career growth and gender equity. \nWe’ll also address critical safety topics\, including protecting women travelers and raising awareness about human trafficking through the PACT initiative. \nCome learn\, connect\, and take action to help create a more inclusive\, supportive\, and safe future in our industry! \nEvent Speaker:\n• Moderator: Jeremy Dyken\, Vice President\, Information Technology at Fox World Travel\n• Panelist: Beth Marino\, Chief Operating Officer at Fox World Travel \nLocation of Event:\nFirefly Tapas Kitchen & Bar (Pink Room)\n335 Hughes Center Dr\nLas Vegas\, NV 89169 \nPrice:\n$30.00 Member Ticket\n$40.00 All Access Member Ticket\n$50.00 Non-Member Ticket
URL:https://gbta.org/pt/event/women-leading-the-way-mentorship-advocacy-and-leadership-in-business-travel/
CATEGORIES:North America,US Chapter Event
END:VEVENT
END:VCALENDAR