BEGIN:VCALENDAR
VERSION:2.0
PRODID:-//Global Business Travel Association - GBTA - ECPv6.9.0//NONSGML v1.0//EN
CALSCALE:GREGORIAN
METHOD:PUBLISH
X-WR-CALNAME:Global Business Travel Association - GBTA
X-ORIGINAL-URL:https://gbta.org/pt
X-WR-CALDESC:Eventos para Global Business Travel Association - GBTA
REFRESH-INTERVAL;VALUE=DURATION:PT1H
X-Robots-Tag:noindex
X-PUBLISHED-TTL:PT1H
BEGIN:VTIMEZONE
TZID:America/New_York
BEGIN:DAYLIGHT
TZOFFSETFROM:-0500
TZOFFSETTO:-0400
TZNAME:EDT
DTSTART:20250309T070000
END:DAYLIGHT
BEGIN:STANDARD
TZOFFSETFROM:-0400
TZOFFSETTO:-0500
TZNAME:EST
DTSTART:20251102T060000
END:STANDARD
END:VTIMEZONE
BEGIN:VEVENT
DTSTART;TZID=America/New_York:20250912T110000
DTEND;TZID=America/New_York:20250912T140000
DTSTAMP:20260419T232209
CREATED:20250818T154941Z
LAST-MODIFIED:20250818T154941Z
UID:25482-1757674800-1757685600@gbta.org
SUMMARY:GBTA | South Carolina Post GBTA Convention Wrap Up and State of the Airport Update
DESCRIPTION:Post GBTA Convention Wrap Up and State of the Airport Update
URL:https://gbta.org/pt/event/gbta-south-carolina-post-gbta-convention-wrap-up-and-state-of-the-airport-update/
CATEGORIES:North America,US Chapter Event
END:VEVENT
END:VCALENDAR