BEGIN:VCALENDAR
VERSION:2.0
PRODID:-//Global Business Travel Association - GBTA - ECPv6.9.0//NONSGML v1.0//EN
CALSCALE:GREGORIAN
METHOD:PUBLISH
X-WR-CALNAME:Global Business Travel Association - GBTA
X-ORIGINAL-URL:https://gbta.org/pt
X-WR-CALDESC:Eventos para Global Business Travel Association - GBTA
REFRESH-INTERVAL;VALUE=DURATION:PT1H
X-Robots-Tag:noindex
X-PUBLISHED-TTL:PT1H
BEGIN:VTIMEZONE
TZID:America/New_York
BEGIN:DAYLIGHT
TZOFFSETFROM:-0500
TZOFFSETTO:-0400
TZNAME:EDT
DTSTART:20250309T070000
END:DAYLIGHT
BEGIN:STANDARD
TZOFFSETFROM:-0400
TZOFFSETTO:-0500
TZNAME:EST
DTSTART:20251102T060000
END:STANDARD
END:VTIMEZONE
BEGIN:VEVENT
DTSTART;TZID=America/New_York:20251104T180000
DTEND;TZID=America/New_York:20251104T203000
DTSTAMP:20260419T174710
CREATED:20251017T061650Z
LAST-MODIFIED:20251017T061650Z
UID:26763-1762279200-1762288200@gbta.org
SUMMARY:GBTA | TN Celebrates in Style: Bootleggers & Bubbles – Annual Scholarship Fundraiser
DESCRIPTION:GBTA | Tennessee \nGet ready to step back in time! GBTA Tennessee’s Annual Scholarship Fundraiser & Silent Auction is going underground this year with a Bootleggers & Bubbles theme—our own nod to the speakeasy days of Prohibition. \nSlip into your finest flapper dresses\, sequins\, feathers\, suspenders\, or fedoras and join us for a night of sparkle\, spirits\, and secret passwords. It’s an evening filled with live music\, laughter\, and plenty of surprises—all in support of GBTA Tennessee’s Scholarship Fund. \n✨ Highlights of the Evening: \nSilent Auction bidding on exciting items\, Bootleggers & Bubbles Costume Contest\, Live band setting the speakeasy vibe\, Door prizes\, Networking with fellow travel professionals\, Wine & Whiskey Pull \n✨ Don’t miss this chance to sip\, sparkle\, and step back into the spirit of Prohibition while supporting GBTA Tennessee’s Scholarship Fund! \nWoolworth Theatre\n223 Rep. John Lewis Way N\nNashville\, TN 37219 \nTickets\n$55.00 GBTA-TN Member Registration\n$65.00 after 08:00 am November 3 \n$55.00 GBTA All-Access Registration\n$65.00 after 08:00 am November 3 \n$65.00 Guest Registration\n$75.00 after 08:00 am November 3
URL:https://gbta.org/pt/event/gbta-tn-celebrates-in-style-bootleggers-bubbles-annual-scholarship-fundraiser/
CATEGORIES:North America,US Chapter Event
END:VEVENT
END:VCALENDAR