BEGIN:VCALENDAR
VERSION:2.0
PRODID:-//Global Business Travel Association - GBTA - ECPv6.9.0//NONSGML v1.0//EN
CALSCALE:GREGORIAN
METHOD:PUBLISH
X-ORIGINAL-URL:https://gbta.org/pt
X-WR-CALDESC:Eventos para Global Business Travel Association - GBTA
REFRESH-INTERVAL;VALUE=DURATION:PT1H
X-Robots-Tag:noindex
X-PUBLISHED-TTL:PT1H
BEGIN:VTIMEZONE
TZID:America/New_York
BEGIN:DAYLIGHT
TZOFFSETFROM:-0500
TZOFFSETTO:-0400
TZNAME:EDT
DTSTART:20250309T070000
END:DAYLIGHT
BEGIN:STANDARD
TZOFFSETFROM:-0400
TZOFFSETTO:-0500
TZNAME:EST
DTSTART:20251102T060000
END:STANDARD
END:VTIMEZONE
BEGIN:VEVENT
DTSTART;VALUE=DATE:20251110
DTEND;VALUE=DATE:20251113
DTSTAMP:20260419T135619
CREATED:20250103T071607Z
LAST-MODIFIED:20250710T065228Z
UID:19703-1762732800-1762991999@gbta.org
SUMMARY:GBTA +VDR Conference 2025 | Hamburg
DESCRIPTION:Join us for GBTA + VDR Europe Conference 2025 – Hamburg\,  the premier European event for the business travel industry where diverse voices come together for a common purpose. \nLearn More
URL:https://gbta.org/pt/event/gbta-vdr-conference-2025-hamburg/
CATEGORIES:Conference/Convention,Europe
ATTACH;FMTTYPE=image/webp:https://gbta.org/wp-content/uploads/hamburg600.webp
END:VEVENT
END:VCALENDAR