BEGIN:VCALENDAR
VERSION:2.0
PRODID:-//Global Business Travel Association - GBTA - ECPv6.9.0//NONSGML v1.0//EN
CALSCALE:GREGORIAN
METHOD:PUBLISH
X-WR-CALNAME:Global Business Travel Association - GBTA
X-ORIGINAL-URL:https://gbta.org/pt
X-WR-CALDESC:Eventos para Global Business Travel Association - GBTA
REFRESH-INTERVAL;VALUE=DURATION:PT1H
X-Robots-Tag:noindex
X-PUBLISHED-TTL:PT1H
BEGIN:VTIMEZONE
TZID:America/New_York
BEGIN:DAYLIGHT
TZOFFSETFROM:-0500
TZOFFSETTO:-0400
TZNAME:EDT
DTSTART:20250309T070000
END:DAYLIGHT
BEGIN:STANDARD
TZOFFSETFROM:-0400
TZOFFSETTO:-0500
TZNAME:EST
DTSTART:20251102T060000
END:STANDARD
END:VTIMEZONE
BEGIN:VEVENT
DTSTART;TZID=America/New_York:20251203T150000
DTEND;TZID=America/New_York:20251203T203000
DTSTAMP:20260419T194455
CREATED:20251125T105022Z
LAST-MODIFIED:20251125T105022Z
UID:27655-1764774000-1764793800@gbta.org
SUMMARY:Holiday Meeting & Charity Auction
DESCRIPTION:❄️❄️It’s time! It’s finally here! ❄️❄️ \nWe know this is later than normal\, but we heard you and we are changing things up! After listening to your feedback\, we’ve created a fresh format and an entirely new experience to keep things exciting! Plus\, we’ve sprinkled in a few surprises to make this year truly unforgettable! The GBTA Michigan Holiday Auction is back and better than ever—bringing together travel professionals\, partners\, and friends for an evening of festive fun\, networking\, and incredible auction items to support Conductive Education Center of Metro Detroit (CECMD). Get ready to celebrate the season\, support our industry\, and make this event one to remember! \nVenue: \nThe Madison Rooftop\n1555 Broadway St.\nDetroit\, MI\n48226\nThe Madison Rooftop \nStart: 3:00pm EST \nEnd: 8:30pm EST \nCharity Auction Details: \nTo assist in raising funds for this cause\, GBTA | Michigan will once again be hosting our Charity Auction! A portion of the proceeds will be donated to this amazing cause! This holiday season\, make a difference while celebrating the spirit of giving! Our annual charity auction will be live\, offering exclusive items\, unique experiences\, and festive treasures — all in support of Conductive Education Center of Metro Detroit (CECMD)! Every bid helps fund their needs to give back\, bringing joy and comfort to those who need it most. \nWhether you’re looking for the perfect gift or a once-in-a-lifetime experience\, your participation will help us spread warmth and goodwill this holiday season. Your generosity will have a lasting impact\, and together\, we can make this holiday season brighter for all! \nBid. Win. Give. \n👉 Learn more: https://cecmd.org \n📣 Follow them on Facebook: https://www.facebook.com/conductiveeducation/ \n🔗 Donation Form: https://GBTAMichigan.short.gy/y10DDO \nYou may also email your donation item(s) information to charities@gbtamichigan.org. \nIn-Kind Donation Item Requests: \nThe Charity Committee will be collecting in-kind donations for CECMD! Please see the list below of items requested for donation in new condition: \nPaper Products\nArt Supplies\nCleaning Supplies\nGift Cards:\nGrocery (Meijer/Kroger)\nCrafts/Improvements (Home Depot\, Lowe’s\, Menards)\nCostco/Sam’s Club\nVisa/Mastercard Gift Cards\nBINGO! \nThis is your last opportunity to cross of that last space on your 2025 BINGO cards!!!!! Please note that you *may not* purchase any BINGO cards at this event\, however\, you can cross off squares at this event such as attending the Holiday meeting. Every validated BINGO earns you an entry to win fantastic prizes at the meeting! \nRequired: BINGO card MUST be present at the meeting\, even if you are not! If the BINGO card is not present\, you will not qualify for a prize. Your participation isn’t just about fun – it helps us raise crucial funds to support our chapter’s commitment to the GBTA PAC\, which champions federal legislation that benefits the business travel industry. Don’t miss your chance to join the fun\, make a difference\, and win big! \nAgenda: \n3:00pm: Welcome Remarks \n3:10pm: Special Video \n3:15pm: Sponsorship Presentation \n3:30pm: GBTA Michigan Business Meeting \n3:45pm: Remembering 2025 \n4:00pm: The Craziest! Game \n*Look for a special email coming soon for you to enter into “The Craziest!” game for a chance to win a prize! \n4:30pm: Sponsorship Presentation \n4:40pm: Charity Presentation \n5:00pm: Cocktail Reception \n*Auction is OPEN!* \n6:00pm: Dinner \n*Auction is OPEN!* \n8:00pm: Auction is CLOSED \n8:20pm: Drawings \n8:30pm: Farewell Announcements & Auction Results \nParking: \nWhile there is no dedicated parking for The Madison\, there are three parking lots within a 5 minute walk very close to this location. To assist you with planning on your parking\, please see the below maps\, and information on parking lots: \nGroup Room Block: \nThe Hotel Indigo has set aside a block of rooms at the special rate of $139 + tax. Please reserve your room at your soonest convenience to guarantee the group rate! \nClick here to reserve: GBTA Michigan Chapter \nCutoff Date: December 3\, 2025 \nGBTA Michigan Cancellation Policy: \nWe understand that plans can change. If you need to cancel your registration for an event\, please notify us as soon as possible. \nCancellations received at least 5 business days prior to the event will receive a full refund.\nCancellations received fewer than 5 business days prior to the event are non-refundable due to venue guarantees and meal commitments.\nNo-shows will not be refunded. \nIf you are unable to attend\, you are welcome to transfer your registration to another individual within your organization at no additional charge. Please contact us with the replacement’s name and email address. We appreciate your understanding and cooperation as we aim to deliver high-quality events for our members and partners. \nContact president@gbtamichigan.org with questions on event or membership pricing. \nNote: The agenda is subject to change as education sessions are finalized.
URL:https://gbta.org/pt/event/holiday-meeting-charity-auction/
CATEGORIES:North America,US Chapter Event
END:VEVENT
END:VCALENDAR