BEGIN:VCALENDAR
VERSION:2.0
PRODID:-//Global Business Travel Association - GBTA - ECPv6.9.0//NONSGML v1.0//EN
CALSCALE:GREGORIAN
METHOD:PUBLISH
X-WR-CALNAME:Global Business Travel Association - GBTA
X-ORIGINAL-URL:https://gbta.org/pt
X-WR-CALDESC:Eventos para Global Business Travel Association - GBTA
REFRESH-INTERVAL;VALUE=DURATION:PT1H
X-Robots-Tag:noindex
X-PUBLISHED-TTL:PT1H
BEGIN:VTIMEZONE
TZID:America/New_York
BEGIN:DAYLIGHT
TZOFFSETFROM:-0500
TZOFFSETTO:-0400
TZNAME:EDT
DTSTART:20260308T070000
END:DAYLIGHT
BEGIN:STANDARD
TZOFFSETFROM:-0400
TZOFFSETTO:-0500
TZNAME:EST
DTSTART:20261101T060000
END:STANDARD
END:VTIMEZONE
BEGIN:VEVENT
DTSTART;TZID=America/New_York:20260108T114500
DTEND;TZID=America/New_York:20260108T130000
DTSTAMP:20260419T174629
CREATED:20260106T123821Z
LAST-MODIFIED:20260109T130351Z
UID:28318-1767872700-1767877200@gbta.org
SUMMARY:GBTA North Central January Zoom Featuring Suzanne Neufang - GTP Credit Approved
DESCRIPTION:Join GBTA North Central for our virtual January meeting featuring Suzanne Neufang\, CEO of The Global Business Travel Association! \n \nSuzanne will address the new year and will discuss 2026 New Year-Opener: GBTA and What’s Top of Mind in Business Travel.
URL:https://gbta.org/pt/event/gbta-north-central-january-zoom-featuring-suzanne-neufang/
CATEGORIES:North America,US Chapter Event
END:VEVENT
END:VCALENDAR