BEGIN:VCALENDAR
VERSION:2.0
PRODID:-//Global Business Travel Association - GBTA - ECPv6.9.0//NONSGML v1.0//EN
CALSCALE:GREGORIAN
METHOD:PUBLISH
X-WR-CALNAME:Global Business Travel Association - GBTA
X-ORIGINAL-URL:https://gbta.org/pt
X-WR-CALDESC:Eventos para Global Business Travel Association - GBTA
REFRESH-INTERVAL;VALUE=DURATION:PT1H
X-Robots-Tag:noindex
X-PUBLISHED-TTL:PT1H
BEGIN:VTIMEZONE
TZID:America/New_York
BEGIN:DAYLIGHT
TZOFFSETFROM:-0500
TZOFFSETTO:-0400
TZNAME:EDT
DTSTART:20260308T070000
END:DAYLIGHT
BEGIN:STANDARD
TZOFFSETFROM:-0400
TZOFFSETTO:-0500
TZNAME:EST
DTSTART:20261101T060000
END:STANDARD
END:VTIMEZONE
BEGIN:VEVENT
DTSTART;TZID=America/New_York:20260115T110000
DTEND;TZID=America/New_York:20260115T133000
DTSTAMP:20260419T204945
CREATED:20251203T051842Z
LAST-MODIFIED:20251212T175432Z
UID:27779-1768474800-1768483800@gbta.org
SUMMARY:January 15 In-Person Monthly Meeting - GTP Credit Approved
DESCRIPTION:GBTA’s Leading Lobbyist To Speak\nThursday\, January 15 \nAdvocacy in Action\nUpdate on Congressional Support of Business Travel Legislation \nShane Downey\, the Global Business Travel Association Vice President of Government Relations and Volunteer Relations \, has advocated for business travel and traveler throughout is 20 year tenure in our industry. \n  \n \nRemarks & Take-Aways\nWhere are we mid cycle – hits and misses of 2025 \nWhat’s on the docket – pros and cons for 2026 \nLooking further on the Future Horizon \nAbout Shane: In addition to serving as GBTA’s lead lobbyist in Washington\, D.C. Shane oversees GBTA’s volunteer engagement including GBTA Chapters\, Committees and grassroots political activity. He also leads GBTA’s efforts with EU official in Brussels. Shane has served as a Senior Associate at a Washington D.C. lobbying firm and has worked on several Congressional Campaigns. He is a U.S. Marine Corp and Desert Storm veteran\, \nTickets\nEarly Bird : $50 Members / $70 Guests.\nAfter January 8: $90 Member/Guest \nNetworking & Registration Begin at 11:00am. Meeting Adjourns at 1:30pm. \n50/50 Raffle\nProceeds to help fund GBTA Advocacy Efforts\n1 Ticket $10 / 3 Tickets $25 \nVenue\nAtlanta Airport Marriott Gateway\n2020 Convention Center Concourse\, College Park\, GA 30337 \nThank You To Our Sponsors! \nDelta Air Lines Cornerstone Sponsor \nLEARN MORE AND REGISTER AT WWW.GEORGIABTA.ORG
URL:https://gbta.org/pt/event/january-15-in-person-monthly-meeting/
CATEGORIES:North America,US Chapter Event
END:VEVENT
BEGIN:VEVENT
DTSTART;TZID=America/New_York:20260115T110000
DTEND;TZID=America/New_York:20260115T133000
DTSTAMP:20260419T204945
CREATED:20260106T121641Z
LAST-MODIFIED:20260106T121710Z
UID:28313-1768474800-1768483800@gbta.org
SUMMARY:GBTA Oregon January Educational Lunch
DESCRIPTION:Panel Discussion: Combating Human Trafficking in the Travel Industry\nAwareness. Identification. Prevention. Action. \nJanuary is Human Trafficking Awareness Month\, and this timely panel discussion highlights the travel industry’s critical role in recognizing and preventing exploitation. Hotels\, airlines\, airports\, and transportation providers are uniquely positioned to help identify warning signs and protect vulnerable individuals. \nPanelists include:\nJoel Shapiro\nExecutive Director\nTrafficking Law Center\nPortland\, Oregon \nJILL MEGLI\nGlobal Director\nHyatt Sales Force – Americas \nKatie Moon\, QMHA\nOperations and Program Services Director\nA Village for One \nRenee Unson\nAssistant Director of Sales\nKimpton Hotel Vintage Portland \nLocation:\nCourtyard by Marriott Portland City Center\n550 SW Oak Street\nPortland\, OR 97204
URL:https://gbta.org/pt/event/gbta-oregon-january-educational-lunch/
CATEGORIES:North America,US Chapter Event
END:VEVENT
END:VCALENDAR